BEGIN:VCALENDAR
VERSION:2.0
PRODID:-//dhtmlXScheduler//NONSGML v2.2//EN
X-WR-CALNAME:Wydarzenia
BEGIN:VEVENT
DTSTART:20250310T170000
DTEND:20250311T190000
UID:1
SUMMARY:VIII Tydzień Mózgu w Białymstoku
END:VEVENT
END:VCALENDAR